BEGIN:VCALENDAR
VERSION:2.0
PRODID:-//Library Market//iCal Export//EN
BEGIN:VEVENT
SUMMARY:Palm Desert Reads Book Club
UID:13598
DTSTAMP:20260422T024600Z
DTSTART:20260924T200000Z
DTEND:20260924T210000Z
LOCATION:73300 Fred Waring Drive, Palm Desert, CA 92260, United States
ROOM: Community Room
DESCRIPTION:The Palm Desert Reads Book Club is dedicated to fostering a we
 lcoming and intellectually stimulating environment for adults and older ad
 ults. Our book club provides a space for lifelong learners to come togethe
 r, share their love of literature, and engage in meaningful discussions. T
 hrough the exploration of diverse genres and authors, we aim to spark curi
 osity, build connections, and enrich the lives of our members, encouraging
  both personal growth and social interaction.  The Library will have a l
 imited number of copies available for the book club to check out. The book
 s are on a first-come, first-served basis. For more information, talk to a
  staff member.If there are no copies left and you would like to put this i
 tem on hold with the library, check our catalog here: ebook: The List of 
 Suspicious Things by Jennie GodfreyOur March pick is: The List of Suspicio
 us Things by Jennie GodfreyI sighed. Her questioning my ideas was a recent
  and unwelcome element to our friendship. But it was a valid point. How wo
 uld we catch him? We needed some sort of plan, a way of gathering clues an
 d putting them into order.I thought about what the policeman had said abou
 t structure, and then about Aunty Jean and her notebook, and the idea I ha
 d hardened like toffee. I knew exactly what we needed to do.&#039;We&#039;
 ll make a list,&#039; I said. &#039;A list of the people and things we see
  that are suspicious.And then . . . And then we&#039;ll investigate them.&
 #039;The List of Suspicious Things is a tender and moving coming of age st
 ory about family, friendship and community. Sometimes the strongest connec
 tions are found in the most unlikely of places. 
URL:https://www.palmdesertlibrary.org/event/palm-desert-reads-book-club-13
 598
END:VEVENT
END:VCALENDAR
